BEGIN:VCALENDAR
VERSION:2.0
PRODID:-//ENDO - ECPv6.13.0//NONSGML v1.0//EN
CALSCALE:GREGORIAN
METHOD:PUBLISH
X-ORIGINAL-URL:https://oncology-surgery.gr/en
X-WR-CALDESC:Events for ENDO
REFRESH-INTERVAL;VALUE=DURATION:PT1H
X-Robots-Tag:noindex
X-PUBLISHED-TTL:PT1H
BEGIN:VTIMEZONE
TZID:Europe/Athens
BEGIN:DAYLIGHT
TZOFFSETFROM:+0200
TZOFFSETTO:+0300
TZNAME:EEST
DTSTART:20220327T010000
END:DAYLIGHT
BEGIN:STANDARD
TZOFFSETFROM:+0300
TZOFFSETTO:+0200
TZNAME:EET
DTSTART:20221030T010000
END:STANDARD
BEGIN:DAYLIGHT
TZOFFSETFROM:+0200
TZOFFSETTO:+0300
TZNAME:EEST
DTSTART:20230326T010000
END:DAYLIGHT
BEGIN:STANDARD
TZOFFSETFROM:+0300
TZOFFSETTO:+0200
TZNAME:EET
DTSTART:20231029T010000
END:STANDARD
BEGIN:DAYLIGHT
TZOFFSETFROM:+0200
TZOFFSETTO:+0300
TZNAME:EEST
DTSTART:20240331T010000
END:DAYLIGHT
BEGIN:STANDARD
TZOFFSETFROM:+0300
TZOFFSETTO:+0200
TZNAME:EET
DTSTART:20241027T010000
END:STANDARD
END:VTIMEZONE
BEGIN:VEVENT
DTSTART;VALUE=DATE:20241213
DTEND;VALUE=DATE:20241215
DTSTAMP:20260421T014158
CREATED:20241117T115051Z
LAST-MODIFIED:20241209T111427Z
UID:19055-1734130800-1734217199@oncology-surgery.gr
SUMMARY:Πυρηνική Ιατρική στην Ενδοκρινολογία\, Αίθουσα "Δώμα" ΓΝΑ "Ευαγγελισμός"
DESCRIPTION:Ξεκίνησε η αντίστροφη μέτρηση για την επιστημονική ημερίδα με τίτλο «Πυρηνική Ιατρική στην Ενδοκρινολογία»\, την οποία διοργανώνει η Ελληνική Εταιρεία Πυρηνικής Ιατρικής & Μοριακής Απεικόνισης (ΕΕΠΙ&ΜΑ)\, σε συνεργασία με την Ελληνική Ενδοκρινολογική Εταιρεία | Πανελλήνια Ένωση Ενδοκρινολόγων. \nΗ εκδήλωση θα πραγματοποιηθεί στην Αθήνα\, στην αίθουσα «Δώμα» του Γ.Ν.Α «Ο Ευαγγελισμός»\, το Σάββατο\, 14 Δεκεμβρίου 2024\, με ώρα προσέλευσης 09:30. Η συμμετοχή στην ημερίδα είναι δωρεάν. \n\nΗμερίδα Συνεχιζόμενης Εκπαίδευσης | Πυρηνική Ιατρική στην Ενδοκρινολογία\nΣάββατο\, 14 Δεκεμβρίου 2024 | «Δώμα» | Γ.Ν.Α. Ο Ευαγγελισμός \n 
URL:https://oncology-surgery.gr/en/event/%cf%80%cf%85%cf%81%ce%b7%ce%bd%ce%b9%ce%ba%ce%ae-%ce%b9%ce%b1%cf%84%cf%81%ce%b9%ce%ba%ce%ae-%cf%83%cf%84%ce%b7%ce%bd-%ce%b5%ce%bd%ce%b4%ce%bf%ce%ba%cf%81%ce%b9%ce%bd%ce%bf%ce%bb%ce%bf%ce%b3%ce%af/
CATEGORIES:Εκδηλώσεις E.E.E.,Συνδιοργάνωση με την Εταιρεία
ATTACH;FMTTYPE=image/png:https://oncology-surgery.gr/wp-content/uploads/2024/11/PYRHNIKH-ENDOKRINOLOGIA.png
END:VEVENT
BEGIN:VEVENT
DTSTART;VALUE=DATE:20230916
DTEND;VALUE=DATE:20230917
DTSTAMP:20260421T014158
CREATED:20230915T210044Z
LAST-MODIFIED:20250117T093228Z
UID:20906-1694822400-1694908799@oncology-surgery.gr
SUMMARY:Ημερίδα για την Αντισύλληψη\, 16 Σεπτεμβρίου 2023\, Αμφιθέατρο «ΑΛΚΗΣ ΑΡΓΥΡΙΑΔΗΣ»\, Κεντρικό Κτήριο ΕΚΠΑ
DESCRIPTION:Δείτε εδώ το πρόγραμμα \nΕκ μέρους των εταιρειών Ελληνική Ενδοκρινολογική Εταιρεία – Πανελλήνια Ένωση Ενδοκρινολόγων\, Ελληνική Εταιρεία Οικογενειακού Προγραμματισμού\, Αντισύλληψης & Αναπαραγωγικής Υγείας\, Ελληνική Εταιρεία Γυναικολογικής Ενδοκρινολογίας\, Ελληνική Ανδρολογική Εταιρεία\, Ελληνική Εταιρεία Παιδικής και Εφηβικής Ενδοκρινολογίας\, Ένωση Μαιευτήρων – Γυναικολόγων Ελλάδος\, Ελληνικό Κολλέγιο Παιδιάτρων και Έδρα UNESCO Υγείας και Ιατρικής ΕΚΠΑ\, σας προσκαλούμε στην εκδήλωση με θέμα την Αντισύλληψη\, που θα πραγματοποιηθεί στις 16 Σεπτεμβρίου 2023\, στο Αμφιθέατρο «ΑΛΚΗΣ ΑΡΓΥΡΙΑΔΗΣ»\, στο Κεντρικό Κτήριο του Εθνικού και Καποδιστριακού Πανεπιστημίου Αθηνών. \nΘα χαρούμε να μας τιμήσετε με την παρουσία σας.
URL:https://oncology-surgery.gr/en/event/%ce%b7%ce%bc%ce%b5%cf%81%ce%af%ce%b4%ce%b1-%ce%b3%ce%b9%ce%b1-%cf%84%ce%b7%ce%bd-%ce%b1%ce%bd%cf%84%ce%b9%cf%83%cf%8d%ce%bb%ce%bb%ce%b7%cf%88%ce%b7-16-%cf%83%ce%b5%cf%80%cf%84%ce%b5%ce%bc%ce%b2%cf%81/
LOCATION:Αμφιθέατρο «ΑΛΚΗΣ ΑΡΓΥΡΙΑΔΗΣ»\, Κεντρικό Κτήριο ΕΚΠΑ
CATEGORIES:Εκδηλώσεις E.E.E.,Συνδιοργάνωση με την Εταιρεία
ATTACH;FMTTYPE=image/jpeg:https://oncology-surgery.gr/wp-content/uploads/2025/01/POSTER-ΗΜΕΡΙΔΑ-2023-203x300-1.jpg
END:VEVENT
BEGIN:VEVENT
DTSTART;VALUE=DATE:20221015
DTEND;VALUE=DATE:20221017
DTSTAMP:20260421T014158
CREATED:20221015T084124Z
LAST-MODIFIED:20250121T094401Z
UID:21388-1665792000-1665964799@oncology-surgery.gr
SUMMARY:Διημερίδα Ενδοκρινολογικής Εταιρείας Κύπρου
DESCRIPTION:Δείτε εδώ το πρόγραμμα \n15-16/10/2020 \nΣε συνεργασία με τη Νεφρολογική Εταιρεία Κύπρου και την Ελληνική Ενδοκρινολογική Εταιρεία.\nΥπό την Αιγίδα του Παγκύπριου Ιατρικού Συλλόγου
URL:https://oncology-surgery.gr/en/event/%ce%b4%ce%b9%ce%b7%ce%bc%ce%b5%cf%81%ce%af%ce%b4%ce%b1-%ce%b5%ce%bd%ce%b4%ce%bf%ce%ba%cf%81%ce%b9%ce%bd%ce%bf%ce%bb%ce%bf%ce%b3%ce%b9%ce%ba%ce%ae%cf%82-%ce%b5%cf%84%ce%b1%ce%b9%cf%81%ce%b5%ce%af%ce%b1/
LOCATION:Διημερίδα Ενδοκρινολογικής Εταιρείας Κύπρου
CATEGORIES:Εκδηλώσεις E.E.E.,Συνδιοργάνωση με την Εταιρεία
ATTACH;FMTTYPE=image/png:https://oncology-surgery.gr/wp-content/uploads/2025/01/eee-300x146-1-1.png
END:VEVENT
END:VCALENDAR