BEGIN:VCALENDAR
VERSION:2.0
PRODID:-//ENDO - ECPv6.13.0//NONSGML v1.0//EN
CALSCALE:GREGORIAN
METHOD:PUBLISH
X-WR-CALNAME:ENDO
X-ORIGINAL-URL:https://oncology-surgery.gr/en
X-WR-CALDESC:Events for ENDO
REFRESH-INTERVAL;VALUE=DURATION:PT1H
X-Robots-Tag:noindex
X-PUBLISHED-TTL:PT1H
BEGIN:VTIMEZONE
TZID:Europe/Athens
BEGIN:DAYLIGHT
TZOFFSETFROM:+0200
TZOFFSETTO:+0300
TZNAME:EEST
DTSTART:20250330T010000
END:DAYLIGHT
BEGIN:STANDARD
TZOFFSETFROM:+0300
TZOFFSETTO:+0200
TZNAME:EET
DTSTART:20251026T010000
END:STANDARD
END:VTIMEZONE
BEGIN:VEVENT
DTSTART;VALUE=DATE:20250113
DTEND;VALUE=DATE:20250119
DTSTAMP:20260422T220617
CREATED:20241124T203700Z
LAST-MODIFIED:20250110T085359Z
UID:20031-1736726400-1737244799@oncology-surgery.gr
SUMMARY:Προετοιμασία για την απόκτηση του τίτλου ειδικότητας (13-18 Ιανουαρίου 2025)
DESCRIPTION:Αγαπητοί συνάδελφοι\, \nΌπως κάθε χρόνο η ΕΕΕ-ΠΕΕ οργανώνει και το 2025\, δια ζώσης\, τον φροντιστηριακό κύκλο προετοιμασίας για τις εξετάσεις ειδικότητας Ενδοκρινολογίας από 13-18 Ιανουαρίου 2025\, στα γραφεία της ΕΕΕ-ΠΕΕ. \n\n 
URL:https://oncology-surgery.gr/en/event/%cf%80%cf%81%ce%bf%ce%b5%cf%84%ce%bf%ce%b9%ce%bc%ce%b1%cf%83%ce%af%ce%b1-%ce%b3%ce%b9%ce%b1-%cf%84%ce%b7%ce%bd-%ce%b1%cf%80%cf%8c%ce%ba%cf%84%ce%b7%cf%83%ce%b7-%cf%84%ce%bf%cf%85-%cf%84%ce%af%cf%84/
LOCATION:Ελληνικη Ενδοκρινολογικη Εταιρεια\, Leof. Alexandras 14\, Athens\, 106 82\, Greece
CATEGORIES:Προετοιμασία λήψης ειδικότητας
END:VEVENT
END:VCALENDAR