BEGIN:VCALENDAR
VERSION:2.0
PRODID:-//ENDO - ECPv6.13.0//NONSGML v1.0//EN
CALSCALE:GREGORIAN
METHOD:PUBLISH
X-ORIGINAL-URL:https://oncology-surgery.gr/en
X-WR-CALDESC:Events for ENDO
REFRESH-INTERVAL;VALUE=DURATION:PT1H
X-Robots-Tag:noindex
X-PUBLISHED-TTL:PT1H
BEGIN:VTIMEZONE
TZID:Europe/Athens
BEGIN:DAYLIGHT
TZOFFSETFROM:+0200
TZOFFSETTO:+0300
TZNAME:EEST
DTSTART:20220327T010000
END:DAYLIGHT
BEGIN:STANDARD
TZOFFSETFROM:+0300
TZOFFSETTO:+0200
TZNAME:EET
DTSTART:20221030T010000
END:STANDARD
END:VTIMEZONE
BEGIN:VEVENT
DTSTART;TZID=Europe/Athens:20220226T110000
DTEND;TZID=Europe/Athens:20220226T133000
DTSTAMP:20260423T005329
CREATED:20220226T112445Z
LAST-MODIFIED:20250121T112604Z
UID:21515-1645873200-1645882200@oncology-surgery.gr
SUMMARY:Webinar 26/2/2022\, Παρουσιάσεις Περιστατικών ΠΓΝ ΠΑΤΡΩΝ\, ΕΕΠΜΣ – ΝΟΣΟΚΟΜΕΙΟ ΚΑΤ
DESCRIPTION:• Παρουσίαση Περιστατικού ΠΓΝ ΠΑΤΡΩΝ\, 26.02.2022\, ώρα 11:00-11:45 \nΤίτλος: «Έφηβη 17 ετών με συγκοπτικά επεισόδια και υπασβεστιαιμία» \nΈφηβη 17 ετών με ελεύθερο ατομικό αναμνηστικό βρίσκεται υπό διερεύνηση σε εξωτερική βάση από παθολόγο\, καρδιολόγο και νευρολόγο το τελευταίο εξάμηνο λόγω συγκοπτικών επεισοδίων ιδίως κατά την άσκηση χωρίς να έχει πρόδρομη συμπτωματολογία πριν τα επεισόδια ή άλλα συνοδά συμπτώματα. Μετά από ένα συγκοπτικό επεισόδιο κατά την κολύμβηση επισκέφθηκε το τμήμα επειγόντων περιστατικών του νοσοκομείου μας όπου εισήχθη στην καρδιολογική κλινική λόγω επιμήκυνσης του διαστήματος QT. Διαπιστώθηκε στο βιοχημικό έλεγχο υπασβεστιαιμία με μη ανιχνεύσιμη παραθορμόνη στον ορό και κλήθηκε το ενδοκρινολογικό τμήμα για να προχωρήσει σε εκτίμηση της ασθενούς.\nΘα αναφερθούμε στην οξεία διαχείριση και διαφορική διάγνωση της υπασβεστιαιμίας με αφορμή το συγκεκριμένο περιστατικό όπως και στους θεραπευτικούς στόχους και προκλήσεις στη διαχείριση σε μακροπρόθεσμη βάση του πρωτοπαθούς υποπαραθυρεοειδισμού. \nΥπεύθυνος: Ιωάννης Χαμπαίος MD\, PhD\, Καθηγητής Παθολογίας-Ενδοκρινολογίας και Μεταβολικών Νοσημάτων\, Διευθυντής Ενδοκρινολογικού Τμήματος Πανεπιστημιακού Γενικού Νοσοκομείου Πατρών \nΠαρουσίαση: Παναγιώτης Μπουντούρης MD\, MSc \, ειδικευόμενος Ενδοκρινολογίας\, Τμήμα Ενδοκρινολογίας\, Παθολογική Κλινική\, Πανεπιστημιακό Γενικό Νοσοκομείο Πατρών \nΣχολιασμός: Ντάλη Γεωργία\, Επιμελήτρια Α’\, Ενδοκρινολογικό Τμήμα Διαβητολογικό Κέντρο\, ΓΝΑ “Ευαγγελισμός”. \n——————————————————————– \n• Παρουσίαση Περιστατικού Εργαστήριο έρευνας Παθήσεων Μυοσκελετικού Συστήματος «Θ. Γαροφαλλίδης»\, ΕΚΑΠ\, Νοσοκομείο ΚΑΤ\, 26.02.2022\, ώρα 12:30 – 13:30 \nΤίτλος: Γυναίκα ασθενής 60 ετών\, με ιστορικό θεραπευθέντος Ca παχέος εντέρου\, προσήλθε στο ΕΙ Οστεοπόρωσης λόγω πολλαπλών σπονδυλικών καταγμάτων μετά από διακοπή denosumab. \nΤο 1997 εμφάνισε κατάγματα Θ7\, Θ8 λόγω πτώσης εξ’ ιδίου ύψους. Μεταξύ 2000 και 2009 έλαβε καλσιτονίνη και διφωσφονικά. Από το 2009 έως το 2011 έλαβε τεριπαρατίδη\, ενώ μεταξύ 2011 και 2019 έλαβε denosumab με σωστή συμμόρφωση. Τελευταία δόση denosumab τον 5/2019. Τον 2/2020 εμφάνισε πόνο στη ράχη και διαπιστώθηκαν αυτόματα κατάγματα Ο1\, Ο2\, για τα οποία η ασθενής απευθύνθηκε στο ΕΙ Οστεοπόρωσης.\nΑπό το ατομικό αναμνηστικό: Ca παχέος εντέρου με κολεκτομή & χημειοθεραπεία το 2000 – έκτοτε είναι ελεύθερη νόσου.\nDXA (Lunar Prodigy\, 2/2020): BMD ΑΡ αυχένα μηριαίου 0.775 mg/cm2\, T-score: -3.4\nΑπό τον εργαστηριακό έλεγχο αποκλείστηκαν αιτίες Β/παθούς Οστεοπόρωσης.\nMRI ΟΜΣΣ (12/2/2020): πρόσφατα κατάγματα Ο1\, Ο2\nΤα κατάγματα της ασθενούς αποδόθηκαν σε rebound phenomenon λόγω διακοπής denosumab που λάμβανε επί 8 έτη. Αποφασίστηκε η επαναχορήγηση denosumab\, σε συνδυασμό με ανθρακικό ασβέστιο και χοληκαλσιφερόλη.\nΩστόσο\, τον 3/2020 και έχοντας λάβει μία δόση denosumab\, η ασθενής εμφάνισε εκ νέου ραχιαλγία. Σε MRI ΟΜΣΣ (20/3/2020) διαπιστώθηκαν νέα κατάγματα Θ12\, Ο3\, Ο4\, Ο5.\nΔιαγνωστική και θεραπευτική προσέγγιση. \nΠαρουσίαση: Μιχάλης Κρικέλης\, Ειδικευόμενος Ρευματολογίας\, Ρευματολογική Κλινική\, Νοσοκομείο ΚΑΤ\nΣυμεών Τουρνής\, Ενδοκρινολόγος\, ΕΕΠΜΣ\, ΕΚΠΑ\, Νοσοκομείο ΚΑΤ\nΣχολιασμός: Γεώργιος Τροβάς\, Ενδοκρινολόγος\, ΕΕΠΜΣ\, ΕΚΠΑ\, Νοσοκομείο ΚΑΤ
URL:https://oncology-surgery.gr/en/event/webinar-26-2-2022-%cf%80%ce%b1%cf%81%ce%bf%cf%85%cf%83%ce%b9%ce%ac%cf%83%ce%b5%ce%b9%cf%82-%cf%80%ce%b5%cf%81%ce%b9%cf%83%cf%84%ce%b1%cf%84%ce%b9%ce%ba%cf%8e%ce%bd-%cf%80%ce%b3%ce%bd-%cf%80%ce%b1/
LOCATION:ΠΓΝ ΠΑΤΡΩΝ\, ΕΕΠΜΣ – ΝΟΣΟΚΟΜΕΙΟ ΚΑΤ
CATEGORIES:Webinars παρουσίασης περιστατικών,Εκδηλώσεις E.E.E.
END:VEVENT
BEGIN:VEVENT
DTSTART;VALUE=DATE:20220205
DTEND;VALUE=DATE:20220206
DTSTAMP:20260423T005329
CREATED:20220502T102915Z
LAST-MODIFIED:20250121T113044Z
UID:21524-1644019200-1644105599@oncology-surgery.gr
SUMMARY:Webinar 5/2/2022\, Παρουσίαση περιστατικών ΓΝΘ «ΙΠΠΟΚΡΑΤΕΙΟ» & ΝΠΑ «ΠΑΝΑΓΙΩΤΗ ΚΑΙ ΑΓΛΑΪΑΣ ΚΥΡΙΑΚΟΥ»
DESCRIPTION:Αγαπητοί Συνάδελφοι\, \nΤο Σάββατο 5/2/2022 στις 11.00 π.μ. πραγματοποιείται το 1ο Webinar της Ελληνικής Ενδοκρινολογικής Εταιρείας\, στο πλαίσιο των μετεκπαιδευτικών της μαθημάτων μέσω διαδικτύου για το 2022. \n\n1o Περιστατικό: ΓΝΘ “ΙΠΠΟΚΡΑΤΕΙΟ”\nΥΠΕΥΘΥΝΗ: \n\n Μαρίνα Κήτα\,  Διευθύντρια Ενδοκρινολογικής Κλινικής “Ιπποκράτειο” ΓΝ Θεσσαλονίκης.\n\nΤΙΤΛΟΣ: “Έκτοπο σύνδρομο Cushing: προκλήσεις κατά τη διάγνωση & αντιμετώπιση 3 περιστατικών”. \nΠερίληψη:  \nΈκτοπο Cushing: μία νόσος με πολλά πρόσωπα. Περιγραφή 3 περιπτώσεων ασθενών με έκτοπο Cushing\, οι οποίες διαφέρουν ως προς την αιτιολογία\, την κλινική εικόνα και βαρύτητα\, τους θεραπευτικούς χειρισμούς και την έκβαση. \nΠΑΡΟΥΣΙΑΣΗ: \n\nΕυστάθιος Διβάρης\, Ειδικευόμενος Ενδοκρινολογίας.\nΖωή Α. Ευσταθιάδου\, Διευθύντρια ΕΣΥ\, Ενδοκρινολογικό Τμήμα “Ιπποκράτειο” ΓΝ Θεσσαλονίκης.\n\nΣΧΟΛΙΑΣΜΟΣ: \n\nΣ. Τσαγκαράκης\, Συντονιστής Διευθυντής\, Ενδοκρινολογικής Κλινικής\, Διαβητολογικού Κέντρου και Κέντρου Εμπειρογνωμοσύνης Σπανίων Ενδοκρινικών νοσημάτων ΓΝΑ «Ο Ευαγγελισμός – Πολυκλινική».\n\n\n2o Περιστατικό: ΝΠΑ “ΠΑΝΑΓΙΩΤΗ & ΑΓΛΑΪΑΣ ΚΥΡΙΑΚΟΥ”\n  \nΥΠΕΥΘΥΝΟΣ:  \n\nΣτέφανος Μιχαλάκος\, Συντονιστής Διευθυντής Ενδοκρινολογικού-Αύξησης & Ανάπτυξης Τμήματος Γεν. Νοσ. Παίδων Αθηνών “Π. & Α. Κυριακού”.\n\nΤΙΤΛΟΣ: «Αδελφές με αυξημένα επίπεδα FSH\, υποπλαστικές γονάδες και αυτόματη εμμηναρχή. Ποια η διάγνωση;» \nΠερίληψη: \nΗ παρουσίαση αφορά στην περίπτωση  δυο κοριτσιών αδελφών με φυσιολογικό νοητικό επίπεδο\, χωρίς δυσμορφικά χαρακτηριστικά\, εικόνα υποπλαστικών ωοθηκών\, με ωστόσο αυτόματη εμμηναρχή. Ο γενετικός έλεγχος με μοριακό καρυότυπο ανέδειξε ενδιαφέρον παθολογικό εύρημα.\nΠΑΡΟΥΣΙΑΣΗ: \n\nΕιρήνη Δικαιάκου\, Επιμελήτρια Α’\, Τμήμα ενδοκρινολογικό – Αύξησης κι Ανάπτυξης Νοσοκ. Παίδων Π. Α\, Κυριακού\nΕλπίς – Αθηνά Βλαχοπαπαδοπούλου\, Διευθύντρια\, Τμήμα ενδοκρινολογικό – Αύξησης κι Ανάπτυξης Νοσοκ. Παίδων Π. Α\, Κυριακού.\n\nΣΧΟΛΙΑΣΜΟΣ: \n\nΜαρία Καράντζα – Χαρώνη\, Παιδίατρος Ενδοκρινολόγος\, Διευθύντρια Ενδοκρινολογικής Κλινικής «Παίδων Μητέρα».\n\n\nΠροκειμένου να παρακολουθήσετε ελεύθερα το webinar\, μπορείτε να προεγγραφείτε μέσω της διεύθυνσης: \nhttps://attendee.gotowebinar.com/register/4639805349480236043\n(Webinar ID: 688-535-883) \nσυμπληρώνοντας το ονοματεπώνυμό σας και το email σας στη φόρμα εγγραφής\, ώστε να λάβετε αυτόματα ένα νέο e-mail που θα περιέχει τον σύνδεσμο (link) μέσω του οποίου θα μεταδοθεί το webinar. \nΠροσβλέποντας πάντα στην πολύτιμη ενεργό συμμετοχή σας. \nΓια την Ελληνική Ενδοκρινολογική Εταιρεία. \nΜε εκτίμηση\, \n \n\n  \n\nΑΝΑΛΥΤΙΚΕΣ ΟΔΗΓΙΕΣ ΣΥΝΔΕΣΗΣ\nΤην ημέρα και ώρα διεξαγωγής του webinar\, για να συνδεθείτε\, θα πατήσετε στον παραπάνω σύνδεσμο  και αφού συμπληρώσετε πάλι το Ονοματεπώνυμο και το email σας (εικόνα 1 πιο κάτω)\, θα πατήσετε στο κουμπί “Join Webinar in Progress” στο κάτω μέρος της φόρμας. Στη συνέχεια (εικόνα 2) θα δεχθείτε να “κατέβει” και “εγκατασταθεί” (ή “εκτελεστεί”) στον browser σας\, ένα μικρό πρόγραμμα με το όνομα GoToWebinar Opener (εικόνα 3)\, το οποίο είναι απαραίτητο για να δημιουργήσει στον Η/Υ σας το περιβάλλον παρακολούθησης και υποβολής ερωτημάτων (εικόνα 4). \n(εικόνα 1)\n \n(εικόνα 2)\n \n(εικόνα 3)\n \n(εικόνα 4)\n \nΜπορείτε να παρακολουθήσετε τα webinars είτε από σταθερό ή φορητό υπολογιστή είτε από άλλη κινητή συσκευή (tablet\, κινητό τηλέφωνο)\, κατεβάζοντας και εγκαθιστώντας την αντίστοιχη εφαρμογή για iOS ή για Android λειτουργικό. \nMπορείτε να υποβάλλετε τις ερωτήσεις σας στους εισηγητές\, είτε προφορικά (ενδείκνυται)\, πατώντας πρώτα το κουμπί με την παλάμη\, \n \nώστε ο τεχνικός συντονιστής να σας δώσει τον λόγο και να ανοίξει το μικρόφωνό σας για να σας ακούσουν όλοι οι συμμετέχοντες\, είτε γραπτά\, πληκτρολογώντας την ερώτησή σας στο πλαίσιο με τίτλο Question και στη συνέχεια πατώντας Send για να την παραλάβει ο τεχνικός συντονιστής και να την προωθήσει στον ομιλητή.
URL:https://oncology-surgery.gr/en/event/webinar-5-2-2022-%cf%80%ce%b1%cf%81%ce%bf%cf%85%cf%83%ce%af%ce%b1%cf%83%ce%b7-%cf%80%ce%b5%cf%81%ce%b9%cf%83%cf%84%ce%b1%cf%84%ce%b9%ce%ba%cf%8e%ce%bd-%ce%b3%ce%bd%ce%b8-%ce%b9%cf%80%cf%80/
LOCATION:«ΙΠΠΟΚΡΑΤΕΙΟ» & ΝΠΑ «ΠΑΝΑΓΙΩΤΗ ΚΑΙ ΑΓΛΑΪΑΣ ΚΥΡΙΑΚΟΥ»
CATEGORIES:Webinars παρουσίασης περιστατικών,Εκδηλώσεις E.E.E.
END:VEVENT
END:VCALENDAR